BEGIN:VCALENDAR
VERSION:2.0
PRODID:-//Clinch-Powell RC&amp;D - ECPv6.15.20//NONSGML v1.0//EN
CALSCALE:GREGORIAN
METHOD:PUBLISH
X-WR-CALNAME:Clinch-Powell RC&amp;D
X-ORIGINAL-URL:https://clinchpowell.net
X-WR-CALDESC:Events for Clinch-Powell RC&amp;D
REFRESH-INTERVAL;VALUE=DURATION:PT1H
X-Robots-Tag:noindex
X-PUBLISHED-TTL:PT1H
BEGIN:VTIMEZONE
TZID:UTC
BEGIN:STANDARD
TZOFFSETFROM:+0000
TZOFFSETTO:+0000
TZNAME:UTC
DTSTART:20230101T000000
END:STANDARD
END:VTIMEZONE
BEGIN:VEVENT
DTSTART;TZID=UTC:20241022T080000
DTEND;TZID=UTC:20241022T170000
DTSTAMP:20260422T234630
CREATED:20241022T182826Z
LAST-MODIFIED:20241022T182851Z
UID:3231-1729584000-1729616400@clinchpowell.net
SUMMARY:Head Start Parent Fair
DESCRIPTION:Families are invited to explore resources from community agencies\, with tables set up to share valuable information.
URL:https://clinchpowell.net/event/head-start-parent-fair/
LOCATION:Boys & Girls Club of the Smoky Mountains Sevierville Branch\, 209 McMahan Avenue\, Sevierville\, 37862\, United States
END:VEVENT
END:VCALENDAR