BEGIN:VCALENDAR
VERSION:2.0
PRODID:-//Clinch-Powell RC&amp;D - ECPv6.15.20//NONSGML v1.0//EN
CALSCALE:GREGORIAN
METHOD:PUBLISH
X-WR-CALNAME:Clinch-Powell RC&amp;D
X-ORIGINAL-URL:https://clinchpowell.net
X-WR-CALDESC:Events for Clinch-Powell RC&amp;D
REFRESH-INTERVAL;VALUE=DURATION:PT1H
X-Robots-Tag:noindex
X-PUBLISHED-TTL:PT1H
BEGIN:VTIMEZONE
TZID:America/New_York
BEGIN:DAYLIGHT
TZOFFSETFROM:-0500
TZOFFSETTO:-0400
TZNAME:EDT
DTSTART:20250309T070000
END:DAYLIGHT
BEGIN:STANDARD
TZOFFSETFROM:-0400
TZOFFSETTO:-0500
TZNAME:EST
DTSTART:20251102T060000
END:STANDARD
BEGIN:DAYLIGHT
TZOFFSETFROM:-0500
TZOFFSETTO:-0400
TZNAME:EDT
DTSTART:20260308T070000
END:DAYLIGHT
BEGIN:STANDARD
TZOFFSETFROM:-0400
TZOFFSETTO:-0500
TZNAME:EST
DTSTART:20261101T060000
END:STANDARD
BEGIN:DAYLIGHT
TZOFFSETFROM:-0500
TZOFFSETTO:-0400
TZNAME:EDT
DTSTART:20270314T070000
END:DAYLIGHT
BEGIN:STANDARD
TZOFFSETFROM:-0400
TZOFFSETTO:-0500
TZNAME:EST
DTSTART:20271107T060000
END:STANDARD
END:VTIMEZONE
BEGIN:VEVENT
DTSTART;TZID=America/New_York:20260703T080000
DTEND;TZID=America/New_York:20260703T170000
DTSTAMP:20260422T175035
CREATED:20260401T171254Z
LAST-MODIFIED:20260401T171254Z
UID:6785-1783065600-1783098000@clinchpowell.net
SUMMARY:Grainger County Independence Day Celebration
DESCRIPTION:Parade\, music\, food trucks\, block party in Downtown Rutledge\, TN
URL:https://clinchpowell.net/event/grainger-county-independence-day-celebration/
LOCATION:TN
END:VEVENT
BEGIN:VEVENT
DTSTART;TZID=America/New_York:20260711T110000
DTEND;TZID=America/New_York:20260711T160000
DTSTAMP:20260422T175035
CREATED:20260401T165311Z
LAST-MODIFIED:20260401T165311Z
UID:6776-1783767600-1783785600@clinchpowell.net
SUMMARY:Second Saturday Vendor Market 7-11-2026
DESCRIPTION:
URL:https://clinchpowell.net/event/second-saturday-vendor-market-7-11-2026/
LOCATION:The Exchange\, 8030 Rutledge Pk\, Rutledge\, TN\, 37861\, United States
ORGANIZER;CN="Clinch-Powell RC&D":MAILTO:info@clinchpowell.net
END:VEVENT
END:VCALENDAR