BEGIN:VCALENDAR
VERSION:2.0
PRODID:-//Clinch-Powell RC&amp;D - ECPv6.15.20//NONSGML v1.0//EN
CALSCALE:GREGORIAN
METHOD:PUBLISH
X-ORIGINAL-URL:https://clinchpowell.net
X-WR-CALDESC:Events for Clinch-Powell RC&amp;D
REFRESH-INTERVAL;VALUE=DURATION:PT1H
X-Robots-Tag:noindex
X-PUBLISHED-TTL:PT1H
BEGIN:VTIMEZONE
TZID:America/New_York
BEGIN:DAYLIGHT
TZOFFSETFROM:-0500
TZOFFSETTO:-0400
TZNAME:EDT
DTSTART:20240310T070000
END:DAYLIGHT
BEGIN:STANDARD
TZOFFSETFROM:-0400
TZOFFSETTO:-0500
TZNAME:EST
DTSTART:20241103T060000
END:STANDARD
BEGIN:DAYLIGHT
TZOFFSETFROM:-0500
TZOFFSETTO:-0400
TZNAME:EDT
DTSTART:20250309T070000
END:DAYLIGHT
BEGIN:STANDARD
TZOFFSETFROM:-0400
TZOFFSETTO:-0500
TZNAME:EST
DTSTART:20251102T060000
END:STANDARD
BEGIN:DAYLIGHT
TZOFFSETFROM:-0500
TZOFFSETTO:-0400
TZNAME:EDT
DTSTART:20260308T070000
END:DAYLIGHT
BEGIN:STANDARD
TZOFFSETFROM:-0400
TZOFFSETTO:-0500
TZNAME:EST
DTSTART:20261101T060000
END:STANDARD
END:VTIMEZONE
BEGIN:VEVENT
DTSTART;TZID=America/New_York:20250920T080000
DTEND;TZID=America/New_York:20250920T150000
DTSTAMP:20260422T231353
CREATED:20250911T163220Z
LAST-MODIFIED:20250911T163220Z
UID:5620-1758355200-1758380400@clinchpowell.net
SUMMARY:Blaine Fall Festival & Car Show
DESCRIPTION:Clinch-Powell is setting up at the Blaine Fall Festival with an interactive opportunity for residents and friends to share their Dream for Downtown Rutledge.
URL:https://clinchpowell.net/event/blaine-fall-festival-car-show/
LOCATION:Blaine City Hall\, 220 Indian Ridge Rd\, Blaine\, TN\, 37709\, United States
END:VEVENT
END:VCALENDAR