BEGIN:VCALENDAR
VERSION:2.0
PRODID:-//Clinch-Powell RC&amp;D - ECPv6.15.20//NONSGML v1.0//EN
CALSCALE:GREGORIAN
METHOD:PUBLISH
X-ORIGINAL-URL:https://clinchpowell.net
X-WR-CALDESC:Events for Clinch-Powell RC&amp;D
REFRESH-INTERVAL;VALUE=DURATION:PT1H
X-Robots-Tag:noindex
X-PUBLISHED-TTL:PT1H
BEGIN:VTIMEZONE
TZID:UTC
BEGIN:STANDARD
TZOFFSETFROM:+0000
TZOFFSETTO:+0000
TZNAME:UTC
DTSTART:20230101T000000
END:STANDARD
END:VTIMEZONE
BEGIN:VEVENT
DTSTART;TZID=UTC:20241031T160000
DTEND;TZID=UTC:20241031T180000
DTSTAMP:20260423T135552
CREATED:20241022T180214Z
LAST-MODIFIED:20241022T180243Z
UID:3215-1730390400-1730397600@clinchpowell.net
SUMMARY:2024 Cookeville Treat Trail
DESCRIPTION:Take your family on a stroll down the 2024 Cookeville Treat Trail! \nJoin Clinch Powell’s Stace & Gary Karge on October 31st from 4:00 to 6:00 p.m. in Dogwood Park in Cookeville\, TN\, for a winding trail filled with Halloween treats! Costumed trailblazers ages 12 and under are welcome to trick-or-treat the booths along the park’s path. There will be games and other fun activities\, including a themed photo opportunity for you and your lil’ goblins to enjoy!
URL:https://clinchpowell.net/event/2024-cookeville-treat-trail/
LOCATION:Dogwood Park Cookevillle\, 30 East broad Street\, Cookeville\, TN\, United States
END:VEVENT
END:VCALENDAR